Package: gemma.R Version: 3.3.0 Command: /Library/Frameworks/R.framework/Resources/bin/R CMD build --keep-empty-dirs --no-resave-data gemma.R StartedAt: 2025-02-09 16:23:37 -0500 (Sun, 09 Feb 2025) EndedAt: 2025-02-09 16:27:12 -0500 (Sun, 09 Feb 2025) EllapsedTime: 215.4 seconds RetCode: 0 Status: OK PackageFile: gemma.R_3.3.0.tar.gz PackageFileSize: 2.12 MiB