Package: gemma.R Version: 3.3.0 Command: /Library/Frameworks/R.framework/Resources/bin/R CMD check --install=check:gemma.R.install-out.txt --library=/Library/Frameworks/R.framework/Resources/library --no-vignettes --timings gemma.R_3.3.0.tar.gz StartedAt: 2025-02-09 19:20:07 -0500 (Sun, 09 Feb 2025) EndedAt: 2025-02-09 19:26:39 -0500 (Sun, 09 Feb 2025) EllapsedTime: 392.7 seconds RetCode: 0 Status: OK CheckDir: gemma.R.Rcheck Warnings: 0