Package: gemma.R Version: 3.3.0 Command: /home/biocbuild/R/R/bin/R CMD check --install=check:gemma.R.install-out.txt --library=/home/biocbuild/R/R/site-library --no-vignettes --timings gemma.R_3.3.0.tar.gz StartedAt: 2025-01-28 10:49:48 -0000 (Tue, 28 Jan 2025) EndedAt: 2025-01-28 11:01:11 -0000 (Tue, 28 Jan 2025) EllapsedTime: 682.6 seconds RetCode: 0 Status: OK CheckDir: gemma.R.Rcheck Warnings: 0