Package: gemma.R Version: 3.3.0 Command: /home/biocbuild/R/R/bin/R CMD INSTALL gemma.R StartedAt: 2025-01-29 20:04:05 -0000 (Wed, 29 Jan 2025) EndedAt: 2025-01-29 20:04:12 -0000 (Wed, 29 Jan 2025) EllapsedTime: 7.3 seconds RetCode: 0 Status: OK