Package: gemma.R Version: 3.3.0 Command: /Library/Frameworks/R.framework/Resources/bin/R CMD build --keep-empty-dirs --no-resave-data gemma.R StartedAt: 2025-02-09 16:50:23 -0500 (Sun, 09 Feb 2025) EndedAt: 2025-02-09 16:55:16 -0500 (Sun, 09 Feb 2025) EllapsedTime: 293.2 seconds RetCode: 0 Status: OK PackageFile: gemma.R_3.3.0.tar.gz PackageFileSize: 2.12 MiB