Package: gemma.R Version: 3.3.0 Command: /home/biocbuild/bbs-3.21-bioc/R/bin/R CMD build --keep-empty-dirs --no-resave-data gemma.R StartedAt: 2025-02-09 17:20:15 -0500 (Sun, 09 Feb 2025) EndedAt: 2025-02-09 17:24:44 -0500 (Sun, 09 Feb 2025) EllapsedTime: 269.4 seconds RetCode: 0 Status: OK PackageFile: gemma.R_3.3.0.tar.gz PackageFileSize: 2.262 MiB