Package: gemma.R Version: 3.3.0 Command: rm -rf gemma.R.buildbin-libdir && mkdir gemma.R.buildbin-libdir && E:\biocbuild\bbs-3.21-bioc\R\bin\R.exe CMD INSTALL --build --library=gemma.R.buildbin-libdir gemma.R_3.3.0.tar.gz StartedAt: 2025-02-10 07:47:46 -0500 (Mon, 10 Feb 2025) EndedAt: 2025-02-10 07:48:26 -0500 (Mon, 10 Feb 2025) EllapsedTime: 40.7 seconds RetCode: 0 Status: OK PackageFile: gemma.R_3.3.0.zip PackageFileSize: 1.842 MiB