Package: gemma.R Version: 3.3.0 Command: chmod a+r gemma.R -R && E:\biocbuild\bbs-3.21-bioc\R\bin\R.exe CMD build --keep-empty-dirs --no-resave-data gemma.R StartedAt: 2025-02-09 18:50:44 -0500 (Sun, 09 Feb 2025) EndedAt: 2025-02-09 18:59:01 -0500 (Sun, 09 Feb 2025) EllapsedTime: 497.5 seconds RetCode: 0 Status: OK PackageFile: gemma.R_3.3.0.tar.gz PackageFileSize: 1.674 MiB