Package: geneAttribution Version: 1.33.0 Command: /Library/Frameworks/R.framework/Resources/bin/R CMD build --keep-empty-dirs --no-resave-data geneAttribution StartedAt: 2025-02-09 16:23:42 -0500 (Sun, 09 Feb 2025) EndedAt: 2025-02-09 16:23:57 -0500 (Sun, 09 Feb 2025) EllapsedTime: 15.2 seconds RetCode: 0 Status: OK PackageFile: geneAttribution_1.33.0.tar.gz PackageFileSize: 39.19 KiB