Package: geneAttribution Version: 1.33.0 Command: /Library/Frameworks/R.framework/Resources/bin/R CMD check --install=check:geneAttribution.install-out.txt --library=/Library/Frameworks/R.framework/Resources/library --no-vignettes --timings geneAttribution_1.33.0.tar.gz StartedAt: 2025-02-12 19:24:16 -0500 (Wed, 12 Feb 2025) EndedAt: 2025-02-12 19:25:58 -0500 (Wed, 12 Feb 2025) EllapsedTime: 101.4 seconds RetCode: 0 Status: OK CheckDir: geneAttribution.Rcheck Warnings: 0