Package: geneAttribution Version: 1.33.0 Command: /home/biocbuild/R/R/bin/R CMD INSTALL geneAttribution StartedAt: 2025-01-29 19:53:31 -0000 (Wed, 29 Jan 2025) EndedAt: 2025-01-29 19:54:17 -0000 (Wed, 29 Jan 2025) EllapsedTime: 46.7 seconds RetCode: 0 Status: OK