Package: geneAttribution Version: 1.33.0 Command: /Library/Frameworks/R.framework/Resources/bin/R CMD build --keep-empty-dirs --no-resave-data geneAttribution StartedAt: 2025-02-12 16:48:04 -0500 (Wed, 12 Feb 2025) EndedAt: 2025-02-12 16:48:47 -0500 (Wed, 12 Feb 2025) EllapsedTime: 43.5 seconds RetCode: 0 Status: OK PackageFile: geneAttribution_1.33.0.tar.gz PackageFileSize: 39.19 KiB