Package: geneAttribution Version: 1.33.0 Command: /Library/Frameworks/R.framework/Resources/bin/R CMD check --install=check:geneAttribution.install-out.txt --library=/Library/Frameworks/R.framework/Resources/library --no-vignettes --timings geneAttribution_1.33.0.tar.gz StartedAt: 2025-02-09 20:51:26 -0500 (Sun, 09 Feb 2025) EndedAt: 2025-02-09 20:56:34 -0500 (Sun, 09 Feb 2025) EllapsedTime: 308.2 seconds RetCode: 0 Status: OK CheckDir: geneAttribution.Rcheck Warnings: 0