Package: geneAttribution Version: 1.33.0 Command: /home/biocbuild/bbs-3.21-bioc/R/bin/R CMD build --keep-empty-dirs --no-resave-data geneAttribution StartedAt: 2025-02-09 17:20:20 -0500 (Sun, 09 Feb 2025) EndedAt: 2025-02-09 17:20:56 -0500 (Sun, 09 Feb 2025) EllapsedTime: 36.1 seconds RetCode: 0 Status: OK PackageFile: geneAttribution_1.33.0.tar.gz PackageFileSize: 39.18 KiB