Package: geneAttribution Version: 1.33.0 Command: /home/biocbuild/bbs-3.21-bioc/R/bin/R CMD check --install=check:geneAttribution.install-out.txt --library=/home/biocbuild/bbs-3.21-bioc/R/site-library --timings geneAttribution_1.33.0.tar.gz StartedAt: 2025-02-09 22:31:34 -0500 (Sun, 09 Feb 2025) EndedAt: 2025-02-09 22:36:07 -0500 (Sun, 09 Feb 2025) EllapsedTime: 272.5 seconds RetCode: 0 Status: OK CheckDir: geneAttribution.Rcheck Warnings: 0