Package: geneAttribution Version: 1.33.0 Command: rm -rf geneAttribution.buildbin-libdir && mkdir geneAttribution.buildbin-libdir && E:\biocbuild\bbs-3.21-bioc\R\bin\R.exe CMD INSTALL --build --library=geneAttribution.buildbin-libdir geneAttribution_1.33.0.tar.gz StartedAt: 2025-02-10 07:47:53 -0500 (Mon, 10 Feb 2025) EndedAt: 2025-02-10 07:48:42 -0500 (Mon, 10 Feb 2025) EllapsedTime: 49.2 seconds RetCode: 0 Status: OK PackageFile: geneAttribution_1.33.0.zip PackageFileSize: 68.92 KiB