Package: geneAttribution Version: 1.33.0 Command: E:\biocbuild\bbs-3.21-bioc\R\bin\R.exe CMD check --no-multiarch --install=check:geneAttribution.install-out.txt --library=E:\biocbuild\bbs-3.21-bioc\R\library --no-vignettes --timings geneAttribution_1.33.0.tar.gz StartedAt: 2025-02-10 01:20:25 -0500 (Mon, 10 Feb 2025) EndedAt: 2025-02-10 01:25:34 -0500 (Mon, 10 Feb 2025) EllapsedTime: 308.9 seconds RetCode: 0 Status: OK CheckDir: geneAttribution.Rcheck Warnings: 0