Package: geneClassifiers Version: 1.31.0 Command: /Library/Frameworks/R.framework/Resources/bin/R CMD INSTALL geneClassifiers StartedAt: 2025-02-12 15:01:18 -0500 (Wed, 12 Feb 2025) EndedAt: 2025-02-12 15:01:20 -0500 (Wed, 12 Feb 2025) EllapsedTime: 2.3 seconds RetCode: 0 Status: OK