Package: geneClassifiers Version: 1.31.0 Command: /Library/Frameworks/R.framework/Resources/bin/R CMD build --keep-empty-dirs --no-resave-data geneClassifiers StartedAt: 2025-02-12 16:48:07 -0500 (Wed, 12 Feb 2025) EndedAt: 2025-02-12 16:48:29 -0500 (Wed, 12 Feb 2025) EllapsedTime: 21.7 seconds RetCode: 0 Status: OK PackageFile: geneClassifiers_1.31.0.tar.gz PackageFileSize: 1.847 MiB