Package: geneClassifiers Version: 1.31.0 Command: rm -rf geneClassifiers.buildbin-libdir && mkdir geneClassifiers.buildbin-libdir && E:\biocbuild\bbs-3.21-bioc\R\bin\R.exe CMD INSTALL --build --library=geneClassifiers.buildbin-libdir geneClassifiers_1.31.0.tar.gz StartedAt: 2025-02-10 07:47:58 -0500 (Mon, 10 Feb 2025) EndedAt: 2025-02-10 07:49:41 -0500 (Mon, 10 Feb 2025) EllapsedTime: 102.8 seconds RetCode: 0 Status: OK PackageFile: geneClassifiers_1.31.0.zip PackageFileSize: 1.745 MiB