Package: geneRecommender Version: 1.79.0 Command: /home/biocbuild/R/R/bin/R CMD build --keep-empty-dirs --no-resave-data geneRecommender StartedAt: 2025-01-28 23:04:57 -0000 (Tue, 28 Jan 2025) EndedAt: 2025-01-28 23:05:04 -0000 (Tue, 28 Jan 2025) EllapsedTime: 7.0 seconds RetCode: 0 Status: OK PackageFile: geneRecommender_1.79.0.tar.gz PackageFileSize: 230.8 KiB