Package: geneRecommender Version: 1.79.0 Command: /home/biocbuild/R/R/bin/R CMD check --install=check:geneRecommender.install-out.txt --library=/home/biocbuild/R/R/site-library --no-vignettes --timings geneRecommender_1.79.0.tar.gz StartedAt: 2025-01-28 10:52:58 -0000 (Tue, 28 Jan 2025) EndedAt: 2025-01-28 10:53:23 -0000 (Tue, 28 Jan 2025) EllapsedTime: 25.0 seconds RetCode: 0 Status: OK CheckDir: geneRecommender.Rcheck Warnings: 0