Package: geneRecommender Version: 1.79.0 Command: /home/biocbuild/R/R/bin/R CMD INSTALL geneRecommender StartedAt: 2025-01-29 19:31:23 -0000 (Wed, 29 Jan 2025) EndedAt: 2025-01-29 19:31:39 -0000 (Wed, 29 Jan 2025) EllapsedTime: 16.8 seconds RetCode: 0 Status: OK