Package: geneRecommender Version: 1.79.0 Command: /home/biocbuild/bbs-3.21-bioc/R/bin/R CMD INSTALL geneRecommender StartedAt: 2025-02-09 15:12:36 -0500 (Sun, 09 Feb 2025) EndedAt: 2025-02-09 15:12:39 -0500 (Sun, 09 Feb 2025) EllapsedTime: 2.6 seconds RetCode: 0 Status: OK