Package: geneRecommender Version: 1.79.0 Command: chmod a+r geneRecommender -R && E:\biocbuild\bbs-3.21-bioc\R\bin\R.exe CMD build --keep-empty-dirs --no-resave-data geneRecommender StartedAt: 2025-02-09 18:51:50 -0500 (Sun, 09 Feb 2025) EndedAt: 2025-02-09 18:52:01 -0500 (Sun, 09 Feb 2025) EllapsedTime: 11.0 seconds RetCode: 0 Status: OK PackageFile: geneRecommender_1.79.0.tar.gz PackageFileSize: 124.9 KiB