Package: geneRecommender Version: 1.79.0 Command: E:\biocbuild\bbs-3.21-bioc\R\bin\R.exe CMD check --no-multiarch --install=check:geneRecommender.install-out.txt --library=E:\biocbuild\bbs-3.21-bioc\R\library --no-vignettes --timings geneRecommender_1.79.0.tar.gz StartedAt: 2025-02-10 01:22:36 -0500 (Mon, 10 Feb 2025) EndedAt: 2025-02-10 01:23:12 -0500 (Mon, 10 Feb 2025) EllapsedTime: 35.5 seconds RetCode: 0 Status: OK CheckDir: geneRecommender.Rcheck Warnings: 0