Package: geneRecommender Version: 1.79.0 Command: E:\biocbuild\bbs-3.21-bioc\R\bin\R.exe CMD INSTALL geneRecommender StartedAt: 2025-02-09 15:23:55 -0500 (Sun, 09 Feb 2025) EndedAt: 2025-02-09 15:24:13 -0500 (Sun, 09 Feb 2025) EllapsedTime: 18.8 seconds RetCode: 0 Status: OK