Package: geneRxCluster Version: 1.43.0 Command: /home/biocbuild/R/R/bin/R CMD INSTALL geneRxCluster StartedAt: 2025-01-29 19:37:51 -0000 (Wed, 29 Jan 2025) EndedAt: 2025-01-29 19:38:04 -0000 (Wed, 29 Jan 2025) EllapsedTime: 13.0 seconds RetCode: 0 Status: OK