Package: geneRxCluster Version: 1.43.0 Command: rm -rf geneRxCluster.buildbin-libdir && mkdir geneRxCluster.buildbin-libdir && /Users/biocbuild/BBS/utils/build-universal.sh geneRxCluster_1.43.0.tar.gz /Library/Frameworks/R.framework/Resources/bin/R geneRxCluster.buildbin-libdir StartedAt: 2025-02-10 00:54:53 -0500 (Mon, 10 Feb 2025) EndedAt: 2025-02-10 00:55:12 -0500 (Mon, 10 Feb 2025) EllapsedTime: 18.5 seconds RetCode: 0 Status: OK PackageFile: geneRxCluster_1.43.0.tgz PackageFileSize: 338.3 KiB