Package: geneRxCluster Version: 1.43.0 Command: /home/biocbuild/bbs-3.21-bioc/R/bin/R CMD INSTALL geneRxCluster StartedAt: 2025-02-12 15:15:53 -0500 (Wed, 12 Feb 2025) EndedAt: 2025-02-12 15:16:02 -0500 (Wed, 12 Feb 2025) EllapsedTime: 9.1 seconds RetCode: 0 Status: OK