Package: geneXtendeR Version: 1.33.0 Command: rm -rf geneXtendeR.buildbin-libdir && mkdir geneXtendeR.buildbin-libdir && /Users/biocbuild/BBS/utils/build-universal.sh geneXtendeR_1.33.0.tar.gz /Library/Frameworks/R.framework/Resources/bin/R geneXtendeR.buildbin-libdir StartedAt: 2025-02-09 22:15:31 -0500 (Sun, 09 Feb 2025) EndedAt: 2025-02-09 22:15:53 -0500 (Sun, 09 Feb 2025) EllapsedTime: 22.4 seconds RetCode: 0 Status: OK PackageFile: geneXtendeR_1.33.0.tgz PackageFileSize: 8.421 MiB