Package: geneXtendeR Version: 1.33.0 Command: /Library/Frameworks/R.framework/Resources/bin/R CMD INSTALL geneXtendeR StartedAt: 2025-02-09 15:15:58 -0500 (Sun, 09 Feb 2025) EndedAt: 2025-02-09 15:16:18 -0500 (Sun, 09 Feb 2025) EllapsedTime: 19.8 seconds RetCode: 0 Status: OK