Package: geneXtendeR Version: 1.33.0 Command: E:\biocbuild\bbs-3.21-bioc\R\bin\R.exe CMD check --no-multiarch --install=check:geneXtendeR.install-out.txt --library=E:\biocbuild\bbs-3.21-bioc\R\library --no-vignettes --timings geneXtendeR_1.33.0.tar.gz StartedAt: 2025-02-10 01:23:30 -0500 (Mon, 10 Feb 2025) EndedAt: 2025-02-10 01:42:12 -0500 (Mon, 10 Feb 2025) EllapsedTime: 1121.6 seconds RetCode: 0 Status: WARNINGS CheckDir: geneXtendeR.Rcheck Warnings: 2