Package: genefu Version: 2.39.1 Command: /home/biocbuild/bbs-3.21-bioc/R/bin/R CMD check --install=check:genefu.install-out.txt --library=/home/biocbuild/bbs-3.21-bioc/R/site-library --timings genefu_2.39.1.tar.gz StartedAt: 2025-02-12 22:32:37 -0500 (Wed, 12 Feb 2025) EndedAt: 2025-02-12 22:35:39 -0500 (Wed, 12 Feb 2025) EllapsedTime: 181.3 seconds RetCode: 0 Status: WARNINGS CheckDir: genefu.Rcheck Warnings: 1