Package: genefu Version: 2.39.1 Command: rm -rf genefu.buildbin-libdir && mkdir genefu.buildbin-libdir && E:\biocbuild\bbs-3.21-bioc\R\bin\R.exe CMD INSTALL --build --library=genefu.buildbin-libdir genefu_2.39.1.tar.gz StartedAt: 2025-02-13 07:59:04 -0500 (Thu, 13 Feb 2025) EndedAt: 2025-02-13 07:59:53 -0500 (Thu, 13 Feb 2025) EllapsedTime: 48.2 seconds RetCode: 0 Status: OK PackageFile: genefu_2.39.1.zip PackageFileSize: 4.94 MiB