Package: geneplast Version: 1.33.0 Command: /Library/Frameworks/R.framework/Resources/bin/R CMD INSTALL geneplast StartedAt: 2025-02-03 15:23:05 -0500 (Mon, 03 Feb 2025) EndedAt: 2025-02-03 15:23:13 -0500 (Mon, 03 Feb 2025) EllapsedTime: 7.8 seconds RetCode: 0 Status: OK