Package: geneplast Version: 1.33.0 Command: chmod a+r geneplast -R && E:\biocbuild\bbs-3.21-bioc\R\bin\R.exe CMD build --keep-empty-dirs --no-resave-data geneplast StartedAt: 2025-02-03 19:03:36 -0500 (Mon, 03 Feb 2025) EndedAt: 2025-02-03 19:04:38 -0500 (Mon, 03 Feb 2025) EllapsedTime: 62.3 seconds RetCode: 0 Status: OK PackageFile: geneplast_1.33.0.tar.gz PackageFileSize: 7.074 MiB