Package: geneplast Version: 1.33.0 Command: E:\biocbuild\bbs-3.21-bioc\R\bin\R.exe CMD INSTALL geneplast StartedAt: 2025-02-03 15:46:52 -0500 (Mon, 03 Feb 2025) EndedAt: 2025-02-03 15:47:16 -0500 (Mon, 03 Feb 2025) EllapsedTime: 23.6 seconds RetCode: 0 Status: OK