Package: geneplotter Version: 1.85.0 Command: /Library/Frameworks/R.framework/Resources/bin/R CMD build --keep-empty-dirs --no-resave-data geneplotter StartedAt: 2025-02-09 16:24:15 -0500 (Sun, 09 Feb 2025) EndedAt: 2025-02-09 16:24:26 -0500 (Sun, 09 Feb 2025) EllapsedTime: 11.1 seconds RetCode: 0 Status: OK PackageFile: geneplotter_1.85.0.tar.gz PackageFileSize: 1.649 MiB