Package: geneplotter Version: 1.85.0 Command: rm -rf geneplotter.buildbin-libdir && mkdir geneplotter.buildbin-libdir && /Users/biocbuild/BBS/utils/build-universal.sh geneplotter_1.85.0.tar.gz /Library/Frameworks/R.framework/Resources/bin/R geneplotter.buildbin-libdir StartedAt: 2025-02-10 00:54:50 -0500 (Mon, 10 Feb 2025) EndedAt: 2025-02-10 00:55:13 -0500 (Mon, 10 Feb 2025) EllapsedTime: 23.0 seconds RetCode: 0 Status: OK PackageFile: geneplotter_1.85.0.tgz PackageFileSize: 1.761 MiB