Package: geneplotter Version: 1.85.0 Command: /home/biocbuild/bbs-3.21-bioc/R/bin/R CMD INSTALL geneplotter StartedAt: 2025-02-04 15:25:38 -0500 (Tue, 04 Feb 2025) EndedAt: 2025-02-04 15:25:53 -0500 (Tue, 04 Feb 2025) EllapsedTime: 14.9 seconds RetCode: 0 Status: OK