Package: geneplotter Version: 1.85.0 Command: chmod a+r geneplotter -R && E:\biocbuild\bbs-3.21-bioc\R\bin\R.exe CMD build --keep-empty-dirs --no-resave-data geneplotter StartedAt: 2025-02-09 18:51:49 -0500 (Sun, 09 Feb 2025) EndedAt: 2025-02-09 18:52:28 -0500 (Sun, 09 Feb 2025) EllapsedTime: 38.8 seconds RetCode: 0 Status: OK PackageFile: geneplotter_1.85.0.tar.gz PackageFileSize: 1.461 MiB