Package: geneplotter Version: 1.85.0 Command: E:\biocbuild\bbs-3.21-bioc\R\bin\R.exe CMD INSTALL geneplotter StartedAt: 2025-02-09 15:47:18 -0500 (Sun, 09 Feb 2025) EndedAt: 2025-02-09 15:47:54 -0500 (Sun, 09 Feb 2025) EllapsedTime: 36.3 seconds RetCode: 0 Status: OK