Package: genomation Version: 1.39.0 Command: rm -rf genomation.buildbin-libdir && mkdir genomation.buildbin-libdir && /Users/biocbuild/BBS/utils/build-universal.sh genomation_1.39.0.tar.gz /Library/Frameworks/R.framework/Resources/bin/R genomation.buildbin-libdir StartedAt: 2025-02-09 22:15:32 -0500 (Sun, 09 Feb 2025) EndedAt: 2025-02-09 22:15:53 -0500 (Sun, 09 Feb 2025) EllapsedTime: 21.4 seconds RetCode: 0 Status: OK PackageFile: genomation_1.39.0.tgz PackageFileSize: 3.025 MiB