Package: genomation Version: 1.39.0 Command: /Library/Frameworks/R.framework/Resources/bin/R CMD check --install=check:genomation.install-out.txt --library=/Library/Frameworks/R.framework/Resources/library --no-vignettes --timings genomation_1.39.0.tar.gz StartedAt: 2025-02-03 19:58:55 -0500 (Mon, 03 Feb 2025) EndedAt: 2025-02-03 20:00:48 -0500 (Mon, 03 Feb 2025) EllapsedTime: 113.3 seconds RetCode: 0 Status: WARNINGS CheckDir: genomation.Rcheck Warnings: 1