Package: genomation Version: 1.39.0 Command: /Library/Frameworks/R.framework/Resources/bin/R CMD INSTALL genomation StartedAt: 2025-02-03 15:45:21 -0500 (Mon, 03 Feb 2025) EndedAt: 2025-02-03 15:45:39 -0500 (Mon, 03 Feb 2025) EllapsedTime: 18.0 seconds RetCode: 0 Status: OK