Package: genomation Version: 1.39.0 Command: /home/biocbuild/R/R/bin/R CMD check --install=check:genomation.install-out.txt --library=/home/biocbuild/R/R/site-library --no-vignettes --timings genomation_1.39.0.tar.gz StartedAt: 2025-01-28 10:53:46 -0000 (Tue, 28 Jan 2025) EndedAt: 2025-01-28 11:00:25 -0000 (Tue, 28 Jan 2025) EllapsedTime: 399.3 seconds RetCode: 0 Status: WARNINGS CheckDir: genomation.Rcheck Warnings: 1