Package: genomation Version: 1.39.0 Command: /Library/Frameworks/R.framework/Resources/bin/R CMD build --keep-empty-dirs --no-resave-data genomation StartedAt: 2025-02-03 16:52:41 -0500 (Mon, 03 Feb 2025) EndedAt: 2025-02-03 16:54:07 -0500 (Mon, 03 Feb 2025) EllapsedTime: 85.8 seconds RetCode: 0 Status: OK PackageFile: genomation_1.39.0.tar.gz PackageFileSize: 6.005 MiB