Package: genomation Version: 1.39.0 Command: /Library/Frameworks/R.framework/Resources/bin/R CMD check --install=check:genomation.install-out.txt --library=/Library/Frameworks/R.framework/Resources/library --no-vignettes --timings genomation_1.39.0.tar.gz StartedAt: 2025-02-09 20:54:31 -0500 (Sun, 09 Feb 2025) EndedAt: 2025-02-09 21:00:30 -0500 (Sun, 09 Feb 2025) EllapsedTime: 358.6 seconds RetCode: 0 Status: WARNINGS CheckDir: genomation.Rcheck Warnings: 1