Package: genomation Version: 1.39.0 Command: /home/biocbuild/bbs-3.21-bioc/R/bin/R CMD build --keep-empty-dirs --no-resave-data genomation StartedAt: 2025-02-09 17:21:45 -0500 (Sun, 09 Feb 2025) EndedAt: 2025-02-09 17:23:02 -0500 (Sun, 09 Feb 2025) EllapsedTime: 77.1 seconds RetCode: 0 Status: OK PackageFile: genomation_1.39.0.tar.gz PackageFileSize: 6.005 MiB